BEGIN:VCALENDAR
VERSION:2.0
PRODID:-//hacksw/handcal//NONSGML v1.0//EN
BEGIN:VEVENT
SUMMARY:jeux de societe 14h30 /17h30
UID:27f03774-c1dd-4dd4-94d2-ae9ebf7939c1
DTSTART:20260605T123000Z
DTEND:20260605T153000Z
LOCATION:Localisation   
CATEGORIES:Sportif
STATUS:
URL;VALUE=URI:https://www.rivagedor.com/evenements/2026/06/05/jeux-de-societe-14h30-17h30-2414994
END:VEVENT
END:VCALENDAR
